BEGIN:VCALENDAR
VERSION:2.0
PRODID:-//Weyler förlag - ECPv6.6.4.2//NONSGML v1.0//EN
CALSCALE:GREGORIAN
METHOD:PUBLISH
X-ORIGINAL-URL:https://www.weylerforlag.se
X-WR-CALDESC:Events for Weyler förlag
REFRESH-INTERVAL;VALUE=DURATION:PT1H
X-Robots-Tag:noindex
X-PUBLISHED-TTL:PT1H
BEGIN:VTIMEZONE
TZID:Europe/Stockholm
BEGIN:DAYLIGHT
TZOFFSETFROM:+0100
TZOFFSETTO:+0200
TZNAME:CEST
DTSTART:20180325T010000
END:DAYLIGHT
BEGIN:STANDARD
TZOFFSETFROM:+0200
TZOFFSETTO:+0100
TZNAME:CET
DTSTART:20181028T010000
END:STANDARD
BEGIN:DAYLIGHT
TZOFFSETFROM:+0100
TZOFFSETTO:+0200
TZNAME:CEST
DTSTART:20190331T010000
END:DAYLIGHT
BEGIN:STANDARD
TZOFFSETFROM:+0200
TZOFFSETTO:+0100
TZNAME:CET
DTSTART:20191027T010000
END:STANDARD
END:VTIMEZONE
BEGIN:VEVENT
DTSTART;TZID=Europe/Stockholm:20190314T183000
DTEND;TZID=Europe/Stockholm:20190314T200000
DTSTAMP:20260422T014026
CREATED:20190218T131947Z
LAST-MODIFIED:20190218T131947Z
UID:1013-1552588200-1552593600@www.weylerforlag.se
SUMMARY:Salomon Schulman och Mose Apelblat på Bajit i Stockholm
DESCRIPTION:Författarsamtal med Mose Apelblat och Salomon Schulman. Föranmälan krävs! Se mer info under länken.
URL:https://www.weylerforlag.se/event/salomon-schulman-och-mose-apelblat-pa-bajit-i-stockholm/
END:VEVENT
BEGIN:VEVENT
DTSTART;TZID=Europe/Stockholm:20190313T180000
DTEND;TZID=Europe/Stockholm:20190313T200000
DTSTAMP:20260422T014026
CREATED:20190218T132109Z
LAST-MODIFIED:20190218T132109Z
UID:1014-1552500000-1552507200@www.weylerforlag.se
SUMMARY:Salomon Schulman och Mose Apelblat besöker NK bokhandel
DESCRIPTION:Författarsamtal med Mose Apelblat och Salomon Schulman i NK bokhandel.
URL:https://www.weylerforlag.se/event/salomon-schulman-och-mose-apelblat-besoker-nk-bokhandel/
END:VEVENT
BEGIN:VEVENT
DTSTART;TZID=Europe/Stockholm:20190313T180000
DTEND;TZID=Europe/Stockholm:20190313T190000
DTSTAMP:20260422T014026
CREATED:20181129T132812Z
LAST-MODIFIED:20181129T132812Z
UID:940-1552500000-1552503600@www.weylerforlag.se
SUMMARY:Tomas Bannerhed pratar om fåglar\, skådare och litteratur på Stadsbiblioteket i Stockholm
DESCRIPTION:”Skådare – ett släkte för sig?” Ett samtal om fåglar\, skådare och litteratur med bl a Tomas Bannerhed och Jonas Ellerström. Stadsbiblioteket Odenplan kl 18.
URL:https://www.weylerforlag.se/event/tomas-bannerhed-pratar-om-faglar-skadare-och-litteratur-pa-stadsbiblioteket-i-stockholm/
END:VEVENT
BEGIN:VEVENT
DTSTART;TZID=Europe/Stockholm:20190312T180000
DTEND;TZID=Europe/Stockholm:20190312T193000
DTSTAMP:20260422T014026
CREATED:20190204T090754Z
LAST-MODIFIED:20190204T090754Z
UID:996-1552413600-1552419000@www.weylerforlag.se
SUMMARY:Debutantkväll med Camilla Prell-Weichl
DESCRIPTION:Debutantkväll med Pia Mariana Raattamaa Visèn\, Camilla Prell-Weichl och Thomas Eriksson kl 18 i Gamla stans bokhandel.
URL:https://www.weylerforlag.se/event/debutantkvall-med-camilla-prell-weichl/
END:VEVENT
BEGIN:VEVENT
DTSTART;TZID=Europe/Stockholm:20190311T114500
DTEND;TZID=Europe/Stockholm:20190311T124500
DTSTAMP:20260422T014026
CREATED:20181129T132457Z
LAST-MODIFIED:20181129T132457Z
UID:938-1552304700-1552308300@www.weylerforlag.se
SUMMARY:Tomas Bannerhed gästar ABF
DESCRIPTION:Tomas Bannerhed i ett samtal om fåglar och litteratur med förläggare Svante Weyler\, ABF-huset kl 11.45.
URL:https://www.weylerforlag.se/event/tomas-bannerhed-gastar-abf/
END:VEVENT
BEGIN:VEVENT
DTSTART;TZID=Europe/Stockholm:20190306T183000
DTEND;TZID=Europe/Stockholm:20190306T200000
DTSTAMP:20260422T014026
CREATED:20190213T112415Z
LAST-MODIFIED:20190213T112415Z
UID:1008-1551897000-1551902400@www.weylerforlag.se
SUMMARY:Psykologer läser "Lugnet" på ABF
DESCRIPTION:Jonas Mosskin samtalar med Tomas Bannerhed i serien Psykologer läser böcker på ABF-huset i Stockholm. Kom och lyssna och var med och analysera romanen ”Lugnet”.
URL:https://www.weylerforlag.se/event/psykologer-laser-lugnet-pa-abf/
END:VEVENT
BEGIN:VEVENT
DTSTART;TZID=Europe/Stockholm:20190305T183000
DTEND;TZID=Europe/Stockholm:20190305T200000
DTSTAMP:20260422T014026
CREATED:20181129T132205Z
LAST-MODIFIED:20181129T132205Z
UID:937-1551810600-1551816000@www.weylerforlag.se
SUMMARY:Tomas Bannerhed gästar "Livsviktigt" i Linköpings domkyrka
DESCRIPTION:Författaren Tomas Bannerhed gästar samtalsserien ”Livsviktigt” i Linköpings domkyrka\, kl 18.30.
URL:https://www.weylerforlag.se/event/tomas-bannerhed-gastar-livsviktigt-i-linkopings-domkyrka/
END:VEVENT
BEGIN:VEVENT
DTSTART;TZID=Europe/Stockholm:20190305T140000
DTEND;TZID=Europe/Stockholm:20190305T150000
DTSTAMP:20260422T014026
CREATED:20181108T123408Z
LAST-MODIFIED:20181108T124429Z
UID:917-1551794400-1551798000@www.weylerforlag.se
SUMMARY:Lennart Hagerfors gästar Senioruniversitetet\, Hudiksvall
DESCRIPTION:Lennart Hagerfors gästar Senioruniversitetet\, Hudiksvall
URL:https://www.weylerforlag.se/event/lennart-hagerfors-gastar-senioruniversitetet-hudiksvall/
END:VEVENT
BEGIN:VEVENT
DTSTART;TZID=Europe/Stockholm:20190302T114500
DTEND;TZID=Europe/Stockholm:20190302T123000
DTSTAMP:20260422T014026
CREATED:20181219T083251Z
LAST-MODIFIED:20190213T113130Z
UID:960-1551527100-1551529800@www.weylerforlag.se
SUMMARY:Tomas Bannerhed gästar Blekinge bokmässa
DESCRIPTION:Tomas Bannerhed gästar Blekinge bokmässa i Karlshamn.
URL:https://www.weylerforlag.se/event/tomas-bannerhed-gastar-blekinge-bokmassa/
END:VEVENT
BEGIN:VEVENT
DTSTART;TZID=Europe/Stockholm:20190301T190000
DTEND;TZID=Europe/Stockholm:20190301T210000
DTSTAMP:20260422T014026
CREATED:20190226T115333Z
LAST-MODIFIED:20190226T115333Z
UID:1018-1551466800-1551474000@www.weylerforlag.se
SUMMARY:Salomon Schulman i samtal med Rakel Chukri i Anti
DESCRIPTION:Malmö! I Anti kan ni på fredag lyssna på Salomon Schulman i samtal med Rakel Chukri.
URL:https://www.weylerforlag.se/event/salomon-schulman-i-samtal-med-rakel-chukri-i-anti/
END:VEVENT
BEGIN:VEVENT
DTSTART;TZID=Europe/Stockholm:20190222T000000
DTEND;TZID=Europe/Stockholm:20190222T000000
DTSTAMP:20260422T014026
CREATED:20181219T083158Z
LAST-MODIFIED:20181219T083158Z
UID:959-1550793600-1550793600@www.weylerforlag.se
SUMMARY:Tomas Bannerhed gästar Linnéuniversitetet
DESCRIPTION:Tomas Bannerhed berättar om sitt skrivande på Linnéuniversitetet i Växjö.
URL:https://www.weylerforlag.se/event/tomas-bannerhed-gastar-linneuniversitetet/
END:VEVENT
BEGIN:VEVENT
DTSTART;TZID=Europe/Stockholm:20190221T000000
DTEND;TZID=Europe/Stockholm:20190221T000000
DTSTAMP:20260422T014026
CREATED:20181129T131752Z
LAST-MODIFIED:20181129T131832Z
UID:936-1550707200-1550707200@www.weylerforlag.se
SUMMARY:Tomas Bannerhed gästar Smålands gille i Lund
DESCRIPTION:Smålands gille i Lund får besök av författaren Tomas Bannerhed.
URL:https://www.weylerforlag.se/event/tomas-bannerhed-gastar-smalands-gille-i-lund/
END:VEVENT
BEGIN:VEVENT
DTSTART;TZID=Europe/Stockholm:20190218T180000
DTEND;TZID=Europe/Stockholm:20190218T190000
DTSTAMP:20260422T014026
CREATED:20181107T150308Z
LAST-MODIFIED:20181107T150308Z
UID:911-1550512800-1550516400@www.weylerforlag.se
SUMMARY:Lennart Hagerfors besöker Bergshamra bibliotek
DESCRIPTION:Lennart Hagerfors besöker Bergshamra bibliotek kl
URL:https://www.weylerforlag.se/event/lennart-hagerfors-besoker-bergshamra-bibliotek/
END:VEVENT
BEGIN:VEVENT
DTSTART;TZID=Europe/Stockholm:20190211T000000
DTEND;TZID=Europe/Stockholm:20190211T000000
DTSTAMP:20260422T014026
CREATED:20181129T131457Z
LAST-MODIFIED:20181129T131659Z
UID:935-1549843200-1549843200@www.weylerforlag.se
SUMMARY:Tomas Bannerhed på SmåLit författarscen i Tranås.
DESCRIPTION:Tomas Bannerhed på SmåLit författarscen i Tranås.
URL:https://www.weylerforlag.se/event/tomas-bannerhed-pa-smalit-forfattarscen-i-tranas/
END:VEVENT
BEGIN:VEVENT
DTSTART;TZID=Europe/Stockholm:20190210T000000
DTEND;TZID=Europe/Stockholm:20190210T000000
DTSTAMP:20260422T014026
CREATED:20181129T131348Z
LAST-MODIFIED:20181129T131348Z
UID:934-1549756800-1549756800@www.weylerforlag.se
SUMMARY:Tomas Bannerhed på SmåLit författarscen i Nässjö.
DESCRIPTION:Tomas Bannerhed på SmåLit författarscen i Nässjö.
URL:https://www.weylerforlag.se/event/tomas-bannerhed-pa-smalit-forfattarscen-i-nassjo/
END:VEVENT
BEGIN:VEVENT
DTSTART;TZID=Europe/Stockholm:20190209T000000
DTEND;TZID=Europe/Stockholm:20190209T000000
DTSTAMP:20260422T014026
CREATED:20181129T131155Z
LAST-MODIFIED:20181129T131155Z
UID:933-1549670400-1549670400@www.weylerforlag.se
SUMMARY:Tomas Bannerhed medverkar vid SmåLit
DESCRIPTION:Tomas Bannerhed medverkar på bokmässan i Jönköping under Smålands Litteraturfestival (SmåLit).
URL:https://www.weylerforlag.se/event/tomas-bannerhed-medverkar-vid-smalit/
END:VEVENT
BEGIN:VEVENT
DTSTART;TZID=Europe/Stockholm:20190208T080000
DTEND;TZID=Europe/Stockholm:20190208T160000
DTSTAMP:20260422T014026
CREATED:20190131T110939Z
LAST-MODIFIED:20190131T110939Z
UID:993-1549612800-1549641600@www.weylerforlag.se
SUMMARY:Anders Sundelin och Sverker Sörlin medverkar i Sanning och stil 2019
DESCRIPTION:Sanning och stil 2019: Vem ansvarar för det offentliga samtalet?\nFredagen den 8 februari\, 09.00 – 16.00\, Humanistiska teatern\, Uppsala.\nMedverkande: Henrik Berggren\, Staffan Bergwik\, Anna Jungstrand\, Elin Sennerö Kaunitz\, Ola Larsmo\, Magnus Linton\, Annika Sandén\, Sverker Sörlin\, Anders Sundelin\, Elisabeth Åsbrink.\nVälkomna till ett symposium om sakprosa\, kunskapsförmedling och offentlighet!
URL:https://www.weylerforlag.se/event/anders-sundelin-och-sverker-sorlin-medverkar-i-sanning-och-stil-2019/
END:VEVENT
BEGIN:VEVENT
DTSTART;TZID=Europe/Stockholm:20190207T180000
DTEND;TZID=Europe/Stockholm:20190207T190000
DTSTAMP:20260422T014026
CREATED:20190204T091324Z
LAST-MODIFIED:20190204T091324Z
UID:997-1549562400-1549566000@www.weylerforlag.se
SUMMARY:Författarsamtal: Maciej Zaremba gästar Åmåls stadshotell
DESCRIPTION:Johanna Frid och Maciej Zaremba!\nEntré 100:- (för medlemmar i Dalslands Litteraturförening 60:-). Mellan kl 18–19 serveras en soppmåltid på Åmåls stadshotell för 75:-.\nEj förköp\, kontant eller swish i entré\, begränsat antal platser!\nFörfattarkvällarna är ett samarbete mellan Bokdagar i Dalsland\, Författarcentrum Väst\, Åmåls kommun och Åmåls stadshotell\, med stöd från Studieförbundet Vuxenskolan.\nMed reservation för eventuella ändringar.
URL:https://www.weylerforlag.se/event/forfattarsamtal-maciej-zaremba-gastar-amals-stadshotell/
END:VEVENT
BEGIN:VEVENT
DTSTART;TZID=Europe/Stockholm:20190206T180000
DTEND;TZID=Europe/Stockholm:20190206T180000
DTSTAMP:20260422T014026
CREATED:20190108T135159Z
LAST-MODIFIED:20190108T135159Z
UID:972-1549476000-1549476000@www.weylerforlag.se
SUMMARY:Författarsamtal: Andreas Ekström och Mattias Beijmo I Gamla stans bokhandel
DESCRIPTION:Författarsamtal om digital samtid: Andreas Ekström och Mattias Beijmo i Gamla stans bokhandel kl 18.00
URL:https://www.weylerforlag.se/event/forfattarsamtal-andreas-ekstrom-och-mattias-beijmo-i-gamla-stans-bokhandel/
END:VEVENT
BEGIN:VEVENT
DTSTART;TZID=Europe/Stockholm:20190125T000000
DTEND;TZID=Europe/Stockholm:20190125T000000
DTSTAMP:20260422T014026
CREATED:20181129T131021Z
LAST-MODIFIED:20181129T131021Z
UID:932-1548374400-1548374400@www.weylerforlag.se
SUMMARY:Tomas Bannerhed medverkar vid författardagen i Filmhuset
DESCRIPTION:Tomas Bannerhed läser ur romanen Lugnet på Författardagen i Filmhuset
URL:https://www.weylerforlag.se/event/tomas-bannerhed-medverkar-vid-forfattardagen-i-filmhuset/
END:VEVENT
BEGIN:VEVENT
DTSTART;TZID=Europe/Stockholm:20190124T183000
DTEND;TZID=Europe/Stockholm:20190124T193000
DTSTAMP:20260422T014026
CREATED:20190123T143221Z
LAST-MODIFIED:20190123T143221Z
UID:984-1548354600-1548358200@www.weylerforlag.se
SUMMARY:Till minne av Förintelsen
DESCRIPTION:Scensamtal med Kenneth Hermele\, Augustnominerad 2018 för boken ”En shtetl i Stockholm”\, Julie Lindahl\, med internationellt uppmärksammade biografin ”Pendeln” och Jessica Bab Bonde\, Augustnominerad 2018 för serieboken ”Vi kommer snart hem igen”. Moderator: Marianne Rundström\, journalist\, programledare & föreläsare. \nLäs mer om programmet under länken.
URL:https://www.weylerforlag.se/event/till-minne-av-forintelsen/
END:VEVENT
BEGIN:VEVENT
DTSTART;TZID=Europe/Stockholm:20190116T183000
DTEND;TZID=Europe/Stockholm:20190116T193000
DTSTAMP:20260422T014026
CREATED:20190107T101519Z
LAST-MODIFIED:20190107T101527Z
UID:967-1547663400-1547667000@www.weylerforlag.se
SUMMARY:Kenneth Hermele besöker Bokcafé Pilgatan i Umeå
DESCRIPTION:Kenneth Hermele besöker Bokcafé Pilgatan i Umeå kl 18:30\, Bokcafé Pilgatan\, Umeå\nEntré\, biljetter släpps 2/1 kl 11.
URL:https://www.weylerforlag.se/event/kenneth-hermele-besoker-bokcafe-plgatan-i-umea/
END:VEVENT
BEGIN:VEVENT
DTSTART;TZID=Europe/Stockholm:20190116T150000
DTEND;TZID=Europe/Stockholm:20190116T160000
DTSTAMP:20260422T014026
CREATED:20190107T101714Z
LAST-MODIFIED:20190107T101714Z
UID:968-1547650800-1547654400@www.weylerforlag.se
SUMMARY:Kenneth Hermele besöker Grubbebiblioteket i Umeå
DESCRIPTION:Kenneth Hermele besöker Grubbebiblioteket i Umeå kl 15.00.
URL:https://www.weylerforlag.se/event/kenneth-hermele-besoker-grubbebiblioteket-i-umea/
END:VEVENT
BEGIN:VEVENT
DTSTART;TZID=Europe/Stockholm:20190116T133000
DTEND;TZID=Europe/Stockholm:20190116T143000
DTSTAMP:20260422T014026
CREATED:20181107T150006Z
LAST-MODIFIED:20190107T094926Z
UID:910-1547645400-1547649000@www.weylerforlag.se
SUMMARY:Lennart Hagerfors besöker Ansgarskyrkan på Lidingö
DESCRIPTION:Lennart Hagerfors besöker Ansgarskyrkan på Lidingö kl 13.30.
URL:https://www.weylerforlag.se/event/lennart-hagerfors-besoker-andreaskyrkan-pa-lidingo/
END:VEVENT
BEGIN:VEVENT
DTSTART;TZID=Europe/Stockholm:20190114T180000
DTEND;TZID=Europe/Stockholm:20190114T190000
DTSTAMP:20260422T014026
CREATED:20190108T145115Z
LAST-MODIFIED:20190108T145115Z
UID:973-1547488800-1547492400@www.weylerforlag.se
SUMMARY:Andreas Ekström om "Att hitta" på Lunds stadsbibliotek
DESCRIPTION:Andreas Ekström pratar om sin nya bok ”Att hitta” på Lunds stadsbibliotek.
URL:https://www.weylerforlag.se/event/andreas-ekstrom-om-att-hitta-pa-lunds-stadsbibliotek/
END:VEVENT
BEGIN:VEVENT
DTSTART;TZID=Europe/Stockholm:20181209T150000
DTEND;TZID=Europe/Stockholm:20181209T163000
DTSTAMP:20260422T014026
CREATED:20180914T073301Z
LAST-MODIFIED:20180914T073301Z
UID:782-1544367600-1544373000@www.weylerforlag.se
SUMMARY:Lina Sjöberg gästar Enköpings bibliotek
DESCRIPTION:Lina Sjöberg pratar om sin roman Simson i Enköpings bibliotek kl 15.00
URL:https://www.weylerforlag.se/event/lina-sjoberg-gastar-enkopings-bibliotek/
END:VEVENT
BEGIN:VEVENT
DTSTART;TZID=Europe/Stockholm:20181209T130000
DTEND;TZID=Europe/Stockholm:20181209T140000
DTSTAMP:20260422T014026
CREATED:20180824T081654Z
LAST-MODIFIED:20180824T081654Z
UID:739-1544360400-1544364000@www.weylerforlag.se
SUMMARY:Helena Granström på Lohrs Pocket
DESCRIPTION:Helena Granström gästar Lohrs Pocket kl 13.
URL:https://www.weylerforlag.se/event/helena-granstrom-pa-lohrs-pocket/
END:VEVENT
BEGIN:VEVENT
DTSTART;TZID=Europe/Stockholm:20181206T180000
DTEND;TZID=Europe/Stockholm:20181206T190000
DTSTAMP:20260422T014026
CREATED:20181109T122552Z
LAST-MODIFIED:20181109T122552Z
UID:921-1544119200-1544122800@www.weylerforlag.se
SUMMARY:Berthil Åkerlund om fredspristagaren Denis Mukwege i Nynäshamn
DESCRIPTION:Berthil Åkerlund om fredspristagaren Denis Mukwege på Nynäshamn bibliotek. \n 
URL:https://www.weylerforlag.se/event/berthil-akerlund-om-fredspristagaren-denis-mukwege-i-nynashamn/
END:VEVENT
BEGIN:VEVENT
DTSTART;TZID=Europe/Stockholm:20181205T180000
DTEND;TZID=Europe/Stockholm:20181205T190000
DTSTAMP:20260422T014026
CREATED:20181109T122406Z
LAST-MODIFIED:20181109T122406Z
UID:920-1544032800-1544036400@www.weylerforlag.se
SUMMARY:Berthil Åkerlund om fredspristagaren Denis Mukwege I Sundbyberg
DESCRIPTION:Berthil Åkerlund om fredspristagaren Denis Mukwege på Signalfabrikens bibliotek\, Sundbyberg-
URL:https://www.weylerforlag.se/event/berthil-akerlund-om-fredspristagaren-denis-mukwege-i-sundbyberg/
END:VEVENT
BEGIN:VEVENT
DTSTART;TZID=Europe/Stockholm:20181204T180000
DTEND;TZID=Europe/Stockholm:20181204T190000
DTSTAMP:20260422T014026
CREATED:20181109T122207Z
LAST-MODIFIED:20181109T122207Z
UID:918-1543946400-1543950000@www.weylerforlag.se
SUMMARY:Berthil Åkerlund om Mukwege på Värmdö bibliotek
DESCRIPTION:Berthil Åkerlund besöker Värmdö bibliotek för att prata om fredspristagaren Denis Mukwege \n 
URL:https://www.weylerforlag.se/event/berthil-akerlund-om-mukwege-pa-varmdo-bibliotek/
END:VEVENT
END:VCALENDAR