BEGIN:VCALENDAR
VERSION:2.0
PRODID:-//Weyler förlag - ECPv6.6.4.2//NONSGML v1.0//EN
CALSCALE:GREGORIAN
METHOD:PUBLISH
X-WR-CALNAME:Weyler förlag
X-ORIGINAL-URL:https://www.weylerforlag.se
X-WR-CALDESC:Events for Weyler förlag
REFRESH-INTERVAL;VALUE=DURATION:PT1H
X-Robots-Tag:noindex
X-PUBLISHED-TTL:PT1H
BEGIN:VTIMEZONE
TZID:Europe/Stockholm
BEGIN:DAYLIGHT
TZOFFSETFROM:+0100
TZOFFSETTO:+0200
TZNAME:CEST
DTSTART:20180325T010000
END:DAYLIGHT
BEGIN:STANDARD
TZOFFSETFROM:+0200
TZOFFSETTO:+0100
TZNAME:CET
DTSTART:20181028T010000
END:STANDARD
END:VTIMEZONE
BEGIN:VEVENT
DTSTART;TZID=Europe/Stockholm:20181004T120000
DTEND;TZID=Europe/Stockholm:20181004T133000
DTSTAMP:20260424T151451
CREATED:20180820T131117Z
LAST-MODIFIED:20180820T131117Z
UID:697-1538654400-1538659800@www.weylerforlag.se
SUMMARY:Tomas Bannerhed på Akademibokhandeln i Karlstad
DESCRIPTION:Svante Weyler och Tomas Bannerhed på Akademibokhandeln i Karlstad kl 12.
URL:https://www.weylerforlag.se/event/tomas-bannerhed-pa-akademibokhandeln-i-karlstad/
END:VEVENT
BEGIN:VEVENT
DTSTART;TZID=Europe/Stockholm:20181003T180000
DTEND;TZID=Europe/Stockholm:20181003T193000
DTSTAMP:20260424T151451
CREATED:20180820T130953Z
LAST-MODIFIED:20180823T081013Z
UID:696-1538589600-1538595000@www.weylerforlag.se
SUMMARY:Tomas Bannerhed i Studentbokhandeln
DESCRIPTION:Tomas Bannerhed berättar om sin nya roman Lugnet. I samtal med Svante Weyler\, Studentbokhandeln i Uppsala kl 18.
URL:https://www.weylerforlag.se/event/tomas-bannerhed-i-studentbokhandeln/
END:VEVENT
BEGIN:VEVENT
DTSTART;TZID=Europe/Stockholm:20181003T180000
DTEND;TZID=Europe/Stockholm:20181003T190000
DTSTAMP:20260424T151451
CREATED:20180830T091852Z
LAST-MODIFIED:20180830T091852Z
UID:744-1538589600-1538593200@www.weylerforlag.se
SUMMARY:Lina Sjöberg gästar Café Pilgatan i Umeå
DESCRIPTION:Fruktad för sin styrka och raseri\, men egentligen en människa som kämpar för att få ihop sitt liv. En av Bibelns hjältar i ett nytt sken. Lina Sjöberg gästar Café Pilgatan i Umeå och pratar om sin bok Simson. \n  \nEntré 40:- /20:- för ungdom/medl.
URL:https://www.weylerforlag.se/event/lina-sjoberg-gastar-cafe-pilgatan-i-umea/
END:VEVENT
BEGIN:VEVENT
DTSTART;TZID=Europe/Stockholm:20181002T173000
DTEND;TZID=Europe/Stockholm:20181002T183000
DTSTAMP:20260424T151451
CREATED:20180904T131852Z
LAST-MODIFIED:20180904T131852Z
UID:750-1538501400-1538505000@www.weylerforlag.se
SUMMARY:Maciej Zaremba besöker Hedengrens
DESCRIPTION:Maciej Zaremba och Svante Weyler samtalar om Zarembas nya bok kl 17.30 på Hedengrens.
URL:https://www.weylerforlag.se/event/maciej-zaremba-besoker-hedengrens/
END:VEVENT
BEGIN:VEVENT
DTSTART;VALUE=DATE:20180930
DTEND;VALUE=DATE:20181001
DTSTAMP:20260424T151451
CREATED:20180918T120828Z
LAST-MODIFIED:20180918T123953Z
UID:800-1538265600-1538351999@www.weylerforlag.se
SUMMARY:Maciej Zaremba på Bokmässan i Göteborg
DESCRIPTION:Söndag 30/9 \nkl 09.30 Se människan\, G-hallen Monternummer G02:10\nkl 10.30 Dagens Nyheter\, Monter: F01:39\nkl 12.00 Stort seminarium\, Scen F2 \n 
URL:https://www.weylerforlag.se/event/maciej-zaremba-pa-bokmassan-i-goteborg/
END:VEVENT
BEGIN:VEVENT
DTSTART;TZID=Europe/Stockholm:20180929T150000
DTEND;TZID=Europe/Stockholm:20180929T154500
DTSTAMP:20260424T151451
CREATED:20180918T121556Z
LAST-MODIFIED:20180918T121556Z
UID:801-1538233200-1538235900@www.weylerforlag.se
SUMMARY:Ia Genberg på Bokmässan i Göteborg
DESCRIPTION:Lördag 29/9 \nkl 15.00 Stort seminarium (med Andrea Lundgren och Peter Sandström)\,  Scen J1
URL:https://www.weylerforlag.se/event/ia-genberg-pa-bokmassan-i-goteborg/
END:VEVENT
BEGIN:VEVENT
DTSTART;TZID=Europe/Stockholm:20180929T093000
DTEND;TZID=Europe/Stockholm:20180929T113000
DTSTAMP:20260424T151451
CREATED:20180918T120326Z
LAST-MODIFIED:20180918T120326Z
UID:799-1538213400-1538220600@www.weylerforlag.se
SUMMARY:Maciej Zaremba gästar Lohrs Pocket
DESCRIPTION:Maciej Zaremba gästar Lohrs pocket kl 9.30-11.30. Är du i Göteborg men inte ska gå på bokmässan\, passa på och lyssna på honom här!
URL:https://www.weylerforlag.se/event/maciej-zaremba-gastar-lohrs-pocket/
END:VEVENT
BEGIN:VEVENT
DTSTART;VALUE=DATE:20180929
DTEND;VALUE=DATE:20181002
DTSTAMP:20260424T151451
CREATED:20180918T122859Z
LAST-MODIFIED:20180918T122859Z
UID:802-1538179200-1538438399@www.weylerforlag.se
SUMMARY:Anders Sundelin på Bokmässan i Göteborg
DESCRIPTION:Lördag 29/9 \nkl 13.00 Stort seminarium (med Elin Jäderström)\,  Scen J1 \nSöndag 30/9 \nkl 11.00 Globala torget
URL:https://www.weylerforlag.se/event/anders-sundelin-pa-bokmassan-i-goteborg/
END:VEVENT
BEGIN:VEVENT
DTSTART;VALUE=DATE:20180929
DTEND;VALUE=DATE:20181001
DTSTAMP:20260424T151451
CREATED:20180918T123846Z
LAST-MODIFIED:20180925T072439Z
UID:803-1538179200-1538351999@www.weylerforlag.se
SUMMARY:Helena Granström på Bokmässan i Göteborg
DESCRIPTION:Lördag 29/9 \nkl 14.00 Expressen\, F01:39\nkl 16.00 Litet seminarium\, Scen F4\nkl 17.20 Expressen\, F01:39 \nSöndag 30/9 \nkl 10.00 Dagens Nyheter\, F01:39
URL:https://www.weylerforlag.se/event/helena-granstrom-pa-bokmassan-i-goteborg/
END:VEVENT
BEGIN:VEVENT
DTSTART;TZID=Europe/Stockholm:20180928T103000
DTEND;TZID=Europe/Stockholm:20180928T110000
DTSTAMP:20260424T151451
CREATED:20180918T113136Z
LAST-MODIFIED:20180925T115343Z
UID:797-1538130600-1538132400@www.weylerforlag.se
SUMMARY:Andreas Ekström på Bokmässan i Göteborg
DESCRIPTION:Fredag 28/9 \nkl 10.30 Grävscenen\, F-hallen Monternummer F00:02 \nLördag 29/9 \nkl 13.30-13.50 Se människan\, G02:10
URL:https://www.weylerforlag.se/event/andreas-ekstrom-pa-bokmassan-i-goteborg/
END:VEVENT
BEGIN:VEVENT
DTSTART;VALUE=DATE:20180928
DTEND;VALUE=DATE:20181001
DTSTAMP:20260424T151451
CREATED:20180918T114712Z
LAST-MODIFIED:20180918T114712Z
UID:798-1538092800-1538351999@www.weylerforlag.se
SUMMARY:Jón Kalman Stefánsson på Bokmässan i Göteborg
DESCRIPTION:Fredag 28/9 \nkl 11.30 Rum för översättning\nkl 14.30 Litet seminarium\, Scen F4 \nLördag 29/9 \nkl 11.00 Stort seminarium (med Tomas Bannerhed)\,  Scen G4 Monternummer G02:20\nkl 17.30 Se människan\, G-hallen Monternummer G02:10 \nSöndag 30/9 \nkl 11.00 Vi Läser (med Tomas Bannerhed)\, monter B06:59
URL:https://www.weylerforlag.se/event/jon-kalman-stefansson-pa-bokmassan-i-goteborg/
END:VEVENT
BEGIN:VEVENT
DTSTART;VALUE=DATE:20180928
DTEND;VALUE=DATE:20181001
DTSTAMP:20260424T151451
CREATED:20180918T102145Z
LAST-MODIFIED:20180925T080015Z
UID:789-1538092800-1538351999@www.weylerforlag.se
SUMMARY:Tomas Bannerhed på Bokmässan i Göteborg
DESCRIPTION:Fredag 28/9 \nkl 11.30 Se människan\, G-hallen Monternummer G02:10\nkl 15.00 Stort seminarium ( med Christine Falkenland)\, Scen G4 Monternummer G02:20\nkl 17.15 Litteraturscenen i samtal med Svante Weyler\, A-hallen Monternummer A01:60 \nLördag 29/9 \nkl 11.00 Stort seminarium (med Jón Kalman Stefánsson) Scen G4 Monternummer G02:20\nkl 14.00 Psykologiscenen\, C-hallen Monternummer C04:32\nkl17.40 Expressens monter\,  F01:39 \nSöndag 30/9 \nkl 11.00 Vi Läser (med Jón Kalman Stefánsson)\, monter B06:59\nkl 12.00 Aftonbladet\, monter B07:40 \n 
URL:https://www.weylerforlag.se/event/tomas-bannerhed-pa-bokmassan-i-goteborg/
END:VEVENT
BEGIN:VEVENT
DTSTART;VALUE=DATE:20180928
DTEND;VALUE=DATE:20180929
DTSTAMP:20260424T151451
CREATED:20180918T130215Z
LAST-MODIFIED:20180918T130215Z
UID:804-1538092800-1538179199@www.weylerforlag.se
SUMMARY:Daan Heerma van Voss på Bokmässan i Göteborg
DESCRIPTION:Fredag 28/9 \nkl 11.00 Stort seminarium (med Hynek Pallas och Jana Juráňová)\, Scen F5\nkl 13.00 EUNIC\,  Monternummer C02:20
URL:https://www.weylerforlag.se/event/daan-heerma-van-voss-pa-bokmassan-i-goteborg/
END:VEVENT
BEGIN:VEVENT
DTSTART;TZID=Europe/Stockholm:20180927T130000
DTEND;TZID=Europe/Stockholm:20180927T132000
DTSTAMP:20260424T151451
CREATED:20180918T111737Z
LAST-MODIFIED:20180918T111754Z
UID:795-1538053200-1538054400@www.weylerforlag.se
SUMMARY:Lennart Hagerfors på Bokmässan i Göteborg
DESCRIPTION:Torsdag 27/9 \nkl 13.00 litet seminarium\, Scen F2
URL:https://www.weylerforlag.se/event/lennart-hagerfors-pa-bokmassan-i-goteborg/
END:VEVENT
BEGIN:VEVENT
DTSTART;VALUE=DATE:20180927
DTEND;VALUE=DATE:20181001
DTSTAMP:20260424T151451
CREATED:20180918T104556Z
LAST-MODIFIED:20180918T115002Z
UID:792-1538006400-1538351999@www.weylerforlag.se
SUMMARY:Kenneth Hermele på Bokmässan i Göteborg
DESCRIPTION:Torsdag 27/9 \nkl 11.00 Aftonbladet\, Monter: B07:40\nkl 14.00 Stort seminarium (med Björn Larsson)\, Scen K2 \nFredag 28/9 \nkl 16.30 Göteborgs-Posten\, G01:25\, G01:28\, G01:29 \nLördag 29/9 \nkl 17.20 Biblioteks & berättarscenen\, D-hallen Monternummer D02:01 \nSöndag 30/9 \nkl 12.40 Globala torget\nkl 16.30 Se människan\, G-hallen Monternummer G02:10
URL:https://www.weylerforlag.se/event/kenneth-hermele-pa-bokmassan-i-goteborg-torsdag/
END:VEVENT
BEGIN:VEVENT
DTSTART;VALUE=DATE:20180927
DTEND;VALUE=DATE:20180929
DTSTAMP:20260424T151451
CREATED:20180918T112729Z
LAST-MODIFIED:20180918T112729Z
UID:796-1538006400-1538179199@www.weylerforlag.se
SUMMARY:Lina Sjöberg på Bokmässan i Göteborg
DESCRIPTION:Torsdag 27/9 \nkl 15.00 Se människan\, G-hallen Monternummer G02:10\nkl 16.30 Litet seminarium\, Scen F4 \nFredag 28/9 \nkl 10.00 Litteraturscenen\, A-hallen Monternummer A01:60\nkl 14.15 Teologiska hörnan\, Monter G01:01 \n  \n 
URL:https://www.weylerforlag.se/event/lina-sjoberg-pa-bokmassan-i-goteborg/
END:VEVENT
BEGIN:VEVENT
DTSTART;TZID=Europe/Stockholm:20180925T100000
DTEND;TZID=Europe/Stockholm:20180925T114500
DTSTAMP:20260424T151451
CREATED:20180912T091821Z
LAST-MODIFIED:20180912T091821Z
UID:769-1537869600-1537875900@www.weylerforlag.se
SUMMARY:Sverker Sörlin föreläser på Senioruniversitetet
DESCRIPTION:Sverker Sörlin föresläser på Senioruniversitetet\, ABF kl 10-11.45.
URL:https://www.weylerforlag.se/event/sverker-sorlin-forelaser-pa-senioruniversitetet/
END:VEVENT
BEGIN:VEVENT
DTSTART;TZID=Europe/Stockholm:20180924T190000
DTEND;TZID=Europe/Stockholm:20180924T200000
DTSTAMP:20260424T151451
CREATED:20180924T080701Z
LAST-MODIFIED:20180924T080701Z
UID:810-1537815600-1537819200@www.weylerforlag.se
SUMMARY:Kväll om Hjalmar Söderberg
DESCRIPTION:Måndagen den 24 september gästar Jesper Högström Sköndals bibliotek. Hans biografi över Hjalmar Söderberg finns nu dessutom som storpocket. Kompletterad med både författarens kommentarer och litteraturförteckning. Välkomna! \n 
URL:https://www.weylerforlag.se/event/kvall-om-hjalmar-soderberg/
LOCATION:Sköndals bibliotek\, Sköndalsvägen 91\, Stockholm\, 128 07
END:VEVENT
BEGIN:VEVENT
DTSTART;TZID=Europe/Stockholm:20180918T183000
DTEND;TZID=Europe/Stockholm:20180918T193000
DTSTAMP:20260424T151451
CREATED:20180618T114423Z
LAST-MODIFIED:20180618T114423Z
UID:639-1537295400-1537299000@www.weylerforlag.se
SUMMARY:Lina Sjöberg besöker Linköpings Domkyrka
DESCRIPTION:Lina Sjöberg besöker Linköpings Domkyrka i föredragsserien Livsviktigt kl 18.30.
URL:https://www.weylerforlag.se/event/lina-sjoberg-besoker-linkopings-domkyrka/
END:VEVENT
BEGIN:VEVENT
DTSTART;TZID=Europe/Stockholm:20180915T123000
DTEND;TZID=Europe/Stockholm:20180915T133000
DTSTAMP:20260424T151451
CREATED:20180824T073446Z
LAST-MODIFIED:20180824T073446Z
UID:734-1537014600-1537018200@www.weylerforlag.se
SUMMARY:Maciej Zaremba besöker Akademibokhandeln city
DESCRIPTION:Klockan 12.30 pratar Maciej Zaremba med Svante Weyler om sin nya bok Huset med de två tornen på Akademibokahndeln Mäster Samuelsgatan.
URL:https://www.weylerforlag.se/event/maciej-zaremba-besoker-akademibokhandeln-city/
END:VEVENT
BEGIN:VEVENT
DTSTART;TZID=Europe/Stockholm:20180913T180000
DTEND;TZID=Europe/Stockholm:20180913T190000
DTSTAMP:20260424T151451
CREATED:20180827T135015Z
LAST-MODIFIED:20180827T135015Z
UID:742-1536861600-1536865200@www.weylerforlag.se
SUMMARY:Lennart Hagerfors och Maciej Zaremba gästar NK bokhandel
DESCRIPTION:Lennart Hagerfors och Maciej Zaremba gästar NK bokhandel kl 18.00.
URL:https://www.weylerforlag.se/event/lennart-hagerfors-och-maciej-zaremba-gastar-nk-bokhandel/
END:VEVENT
BEGIN:VEVENT
DTSTART;TZID=Europe/Stockholm:20180912T180000
DTEND;TZID=Europe/Stockholm:20180912T190000
DTSTAMP:20260424T151451
CREATED:20180824T073126Z
LAST-MODIFIED:20180824T073126Z
UID:732-1536775200-1536778800@www.weylerforlag.se
SUMMARY:Maciej Zaremba gästar Studentbokhandeln i Uppsala
DESCRIPTION:Möt Maciej Zarmeba i Studentbokhandeln i Uppsala kl 18.00 – i samtal med Svante Weyler.
URL:https://www.weylerforlag.se/event/maciej-zaremba-gastar-studentbokhandeln-i-uppsala/
END:VEVENT
BEGIN:VEVENT
DTSTART;TZID=Europe/Stockholm:20180907T160000
DTEND;TZID=Europe/Stockholm:20180907T170000
DTSTAMP:20260424T151451
CREATED:20180820T130501Z
LAST-MODIFIED:20180820T130501Z
UID:695-1536336000-1536339600@www.weylerforlag.se
SUMMARY:Tomas Bannerhed medverkar på Kristianstads bokfestival
DESCRIPTION:Tomas Bannerhed medverkar på Kristianstads bokfestival. Kulturkvarteret\, Stora salen\, kl 16.
URL:https://www.weylerforlag.se/event/tomas-bannerhed-medverkar-pa-kristianstads-bokfestival/
END:VEVENT
BEGIN:VEVENT
DTSTART;TZID=Europe/Stockholm:20180828T190000
DTEND;TZID=Europe/Stockholm:20180828T203000
DTSTAMP:20260424T151451
CREATED:20180824T072732Z
LAST-MODIFIED:20180824T091829Z
UID:730-1535482800-1535488200@www.weylerforlag.se
SUMMARY:Meet the writer - Maciej Zaremba
DESCRIPTION:Maciej Zaremba samtalar om sin nya bok med journalisten Per Svensson på Konstakademien i Stockholm – i samarbete med Dagens Nyheter och Judisk Kultur. Biljetter krävs – mer information under länken.
URL:https://www.weylerforlag.se/event/meet-the-writer-maciej-zaremba/
LOCATION:konstakademien\, Fredsgatan 12\, Stockholm\, 11869\, Sverige
END:VEVENT
BEGIN:VEVENT
DTSTART;TZID=Europe/Stockholm:20180823T180000
DTEND;TZID=Europe/Stockholm:20180823T190000
DTSTAMP:20260424T151451
CREATED:20180618T114301Z
LAST-MODIFIED:20180618T114301Z
UID:638-1535047200-1535050800@www.weylerforlag.se
SUMMARY:Författarkväll med Andreas Ekström i Lund
DESCRIPTION:Författarkväll med Andreas Ekström på Akademibokhandeln Gleerups\, Lund kl 18.00
URL:https://www.weylerforlag.se/event/forfattarkvall-med-andreas-ekstrom-i-lund/
END:VEVENT
BEGIN:VEVENT
DTSTART;TZID=Europe/Stockholm:20180821T183000
DTEND;TZID=Europe/Stockholm:20180821T193000
DTSTAMP:20260424T151451
CREATED:20180618T114132Z
LAST-MODIFIED:20180618T114132Z
UID:637-1534876200-1534879800@www.weylerforlag.se
SUMMARY:Kenneth Hermele talar på Bajit
DESCRIPTION:Kenneth Hermele talar på Bajit kl 18:30. Föranmälan krävs! Mer info under länken.
URL:https://www.weylerforlag.se/event/kenneth-hermele-talar-pa-bajit/
END:VEVENT
BEGIN:VEVENT
DTSTART;VALUE=DATE:20180810
DTEND;VALUE=DATE:20180811
DTSTAMP:20260424T151451
CREATED:20180618T114008Z
LAST-MODIFIED:20180618T114008Z
UID:636-1533859200-1533945599@www.weylerforlag.se
SUMMARY:Tomas Bannerhed medverkar under Kulturveckan i Sunne
DESCRIPTION:Tomas Bannerhed medverkar under Kulturveckan i Sunne som arrangeras av Stiftelsen Selma Lagerlöfs litteraturpris.
URL:https://www.weylerforlag.se/event/tomas-bannerhed-medverkar-under-kulturveckan-i-sunne/
END:VEVENT
BEGIN:VEVENT
DTSTART;VALUE=DATE:20180807
DTEND;VALUE=DATE:20180808
DTSTAMP:20260424T151451
CREATED:20180618T113908Z
LAST-MODIFIED:20180618T113908Z
UID:635-1533600000-1533686399@www.weylerforlag.se
SUMMARY:Per Molander medverkar vid Lövstabruks författarsamtal
DESCRIPTION:Per Molander medverkar vid Lövstabruks författarsamtal den 7 augusti. Årets tema är ”Det öppna samhället och dess fiender”. Läs mer under länken.
URL:https://www.weylerforlag.se/event/per-molander-medverkar-vid-lovstabruks-forfattarsamtal/
END:VEVENT
BEGIN:VEVENT
DTSTART;TZID=Europe/Stockholm:20180530T183000
DTEND;TZID=Europe/Stockholm:20180530T190000
DTSTAMP:20260424T151451
CREATED:20180530T091314Z
LAST-MODIFIED:20180531T114527Z
UID:576-1527705000-1527706800@www.weylerforlag.se
SUMMARY:Tomas Bannerhed medverkar vid Bokmässans programsläpp i Göteborg
DESCRIPTION:Tomas Bannerhed medverkar vid Bokmässans programsläpp i Göteborg. I samtal om den kommande romanen Lugnet med mässans programchef Oskar Ekström\, Zamenhof kl 19.
URL:https://www.weylerforlag.se/event/tomas-bannerhed-medverkar-vid-bokmassans-programslapp-i-goteborg/
END:VEVENT
BEGIN:VEVENT
DTSTART;TZID=Europe/Stockholm:20180511T103000
DTEND;TZID=Europe/Stockholm:20180511T105000
DTSTAMP:20260424T151451
CREATED:20180502T114415Z
LAST-MODIFIED:20180502T114716Z
UID:91-1526034600-1526035800@www.weylerforlag.se
SUMMARY:Tove Folkesson medverkar vid Karlskrona Bok & Hav
DESCRIPTION:»20 minuter med Tove Folkesson« \nTid: fredag 11:e maj\, kl 10:30-10:50 \nPlats: Marinmuseum Hörsalen
URL:https://www.weylerforlag.se/event/tove-folkesson-medverkar-vid-karlskrona-bok-hav/
END:VEVENT
END:VCALENDAR