BEGIN:VCALENDAR
VERSION:2.0
PRODID:-//Weyler förlag - ECPv6.6.4.2//NONSGML v1.0//EN
CALSCALE:GREGORIAN
METHOD:PUBLISH
X-ORIGINAL-URL:https://www.weylerforlag.se
X-WR-CALDESC:Events for Weyler förlag
REFRESH-INTERVAL;VALUE=DURATION:PT1H
X-Robots-Tag:noindex
X-PUBLISHED-TTL:PT1H
BEGIN:VTIMEZONE
TZID:Europe/Stockholm
BEGIN:DAYLIGHT
TZOFFSETFROM:+0100
TZOFFSETTO:+0200
TZNAME:CEST
DTSTART:20190331T010000
END:DAYLIGHT
BEGIN:STANDARD
TZOFFSETFROM:+0200
TZOFFSETTO:+0100
TZNAME:CET
DTSTART:20191027T010000
END:STANDARD
END:VTIMEZONE
BEGIN:VEVENT
DTSTART;TZID=Europe/Stockholm:20191209T080000
DTEND;TZID=Europe/Stockholm:20191209T190000
DTSTAMP:20260421T212152
CREATED:20191203T091326Z
LAST-MODIFIED:20191203T091413Z
UID:1120-1575878400-1575918000@www.weylerforlag.se
SUMMARY:Välkomna på julmarknad – nu på Karlavägen 31!
DESCRIPTION:Nu flyttar vi in hos Natur & Kultur\, och därför hittar du både oss och våra böcker på julmarknaden den 9 december. \nFynda fina böcker till extremt bra priser. Drick glögg\, julrimma\, gå hem med alla julklappar fixade. \nNatur och Kultur\, Karlavägen 31.\nKortbetalning och Swish. \nVi ses!
URL:https://www.weylerforlag.se/event/valkomna-pa-julmarknad-nu-pa-karlavagen-31/
END:VEVENT
BEGIN:VEVENT
DTSTART;TZID=Europe/Stockholm:20191126T193000
DTEND;TZID=Europe/Stockholm:20191126T210000
DTSTAMP:20260421T212152
CREATED:20190514T122626Z
LAST-MODIFIED:20190514T122626Z
UID:1079-1574796600-1574802000@www.weylerforlag.se
SUMMARY:Klassikersalongen om Thoreau och Bennett
DESCRIPTION:Tomas Bannerhed i samtal med Magnus Halldin och Andrea Lundgren om ikonen Henry David Thoreau och stjärnskottet Claire-Louise Bennett. Under fontänen\, Kulturhuset Stadsteatern.
URL:https://www.weylerforlag.se/event/klassikersalongen-om-thoreau-och-bennett/
END:VEVENT
BEGIN:VEVENT
DTSTART;TZID=Europe/Stockholm:20190628T190000
DTEND;TZID=Europe/Stockholm:20190628T203000
DTSTAMP:20260421T212152
CREATED:20190514T122314Z
LAST-MODIFIED:20190514T122314Z
UID:1078-1561748400-1561753800@www.weylerforlag.se
SUMMARY:Tomas Bannerhed gästar Bergmanveckan
DESCRIPTION:Tomas Bannerhed medverkar under Bergmanveckan på Fårö. I samtal om sin ingång till Ingmar Bergman och om den nya antologin Bilder av Bergman. Bergmancenter\, Fårö.
URL:https://www.weylerforlag.se/event/tomas-bannerhed-gastar-bergmanveckan/
END:VEVENT
BEGIN:VEVENT
DTSTART;TZID=Europe/Stockholm:20190514T183000
DTEND;TZID=Europe/Stockholm:20190514T193000
DTSTAMP:20260421T212152
CREATED:20190401T094435Z
LAST-MODIFIED:20190401T094435Z
UID:1061-1557858600-1557862200@www.weylerforlag.se
SUMMARY:Tomas Bannerhed besöker Eksjö bokhandel
DESCRIPTION:Tomas Bannerhed besöker Eksjö bokhandel!
URL:https://www.weylerforlag.se/event/tomas-bannerhed-besoker-eksjo-bokhandel/
END:VEVENT
BEGIN:VEVENT
DTSTART;TZID=Europe/Stockholm:20190508T180000
DTEND;TZID=Europe/Stockholm:20190508T190000
DTSTAMP:20260421T212152
CREATED:20190423T102823Z
LAST-MODIFIED:20190423T102823Z
UID:1071-1557338400-1557342000@www.weylerforlag.se
SUMMARY:Kenneth Hermele gästar Kulturkvarteret Kristianstad
DESCRIPTION:Kenneth Hermele pratar om sin bok En shtetl i Stockholm på Kulturkvarteret Kristianstad\, Bistron.
URL:https://www.weylerforlag.se/event/kenneth-hermele-gastar-kulturkvarteret-kristianstad/
END:VEVENT
BEGIN:VEVENT
DTSTART;TZID=Europe/Stockholm:20190425T180000
DTEND;TZID=Europe/Stockholm:20190425T200000
DTSTAMP:20260421T212152
CREATED:20190213T112555Z
LAST-MODIFIED:20190219T080556Z
UID:1009-1556215200-1556222400@www.weylerforlag.se
SUMMARY:Tomas Bannerhed besöker Mora
DESCRIPTION:Tomas Bannerhed berättar om sin nya roman ”Lugnet” på Mora folkbibliotek kl 18.
URL:https://www.weylerforlag.se/event/tomas-bannerhed-besoker-mora/
END:VEVENT
BEGIN:VEVENT
DTSTART;TZID=Europe/Stockholm:20190423T190000
DTEND;TZID=Europe/Stockholm:20190423T203000
DTSTAMP:20260421T212152
CREATED:20190410T082252Z
LAST-MODIFIED:20190410T082252Z
UID:1066-1556046000-1556051400@www.weylerforlag.se
SUMMARY:Kenneth Hermele gästar judiska salongen
DESCRIPTION:Premiär för Judiska Salongen i Göteborg – en nybildad förening med syftet att arrangera kulturevenemang med judiskt tema inom litteratur\, konst\, teater\, musik\, film\, dans och andra kulturområden. Föreningen är religiöst och partipolitiskt obunden och vänder sig till alla som är intresserade av judisk kultur. \nDet första arrangemanget är ett författarsamtal mellan Kenneth Hermele\, aktuell med En shtetl i Stockholm som nominerades till Augustpriset 2018\, och Leif Zern\, författare till Kaddish på motorcykel som kom ut 2012. Samtalet leds av Rakel Chukri\, kulturskribent på Sydsvenska dagbladet.
URL:https://www.weylerforlag.se/event/kenneth-hermele-gastar-judiska-salongen/
END:VEVENT
BEGIN:VEVENT
DTSTART;TZID=Europe/Stockholm:20190423T000000
DTEND;TZID=Europe/Stockholm:20190423T000000
DTSTAMP:20260421T212152
CREATED:20181129T133449Z
LAST-MODIFIED:20181129T133449Z
UID:944-1555977600-1555977600@www.weylerforlag.se
SUMMARY:Tomas Bannerhed gästar Västerås Stadsbibliotek
DESCRIPTION:Världsbokdagen firas runtom i landet. Tomas Bannerhed framträder på Västerås stadsbibliotek kl 18.
URL:https://www.weylerforlag.se/event/tomas-bannerhed-gastar-vasteras-stadsbibliotek/
END:VEVENT
BEGIN:VEVENT
DTSTART;TZID=Europe/Stockholm:20190411T120000
DTEND;TZID=Europe/Stockholm:20190411T130000
DTSTAMP:20260421T212152
CREATED:20190410T082541Z
LAST-MODIFIED:20190410T082541Z
UID:1067-1554984000-1554987600@www.weylerforlag.se
SUMMARY:Pedagogiskt Forum - "En shtetl i Stockholm" med Kenneth Hermele & Svante Weyler
DESCRIPTION:Kenneth Hermele är ekonom och författare med ett tjugotal skrifter om utvecklingsfrågor bakom sig. 2018 kom hans uppväxtskildring i en judisk familj på Södermalm med föräldrar som har flytt till Sverige under åren före kriget: En shtetl i Stockholm  som har blivit nominerat för Augustpriset 2018. ”Känslan av att inte höra till\, ”skriver han\, ”att stå utanför\, att tillhöra en minoritet\, har följt mig hela livet. Jag tror det är min viktigaste tillgång\, och något jag inte vill förlora. Jag misstror dem som aldrig har befunnit sig i utanförskap\, som aldrig har behövt fundera innan de säger ’vi’.” Det är viktig bok som Hermele har skrivit\, i synnerhet i en tid då antisemitismen återigen breder ut sig. \nSamtalet med Kenneth Hermele förs av Svante Weyler\, förläggare\, författare och journalist. Svante Weyler var Sveriges Radios korrespondent i Berlin\, redaktör på Ord & Bild\, kulturskribent på Expressen och Sydsvenskan och förläggare och förlagschef på Norstedts. 2007 startade han Weyler förlag där han envist har försvarat den goda litteraturen som är livsviktig för skapandet och bevarandet av en god demokrati. Svante Weyler är också ordförande för Svenska kommittén mot antisemitism (SKMA).
URL:https://www.weylerforlag.se/event/pedagogiskt-forum-en-shtetl-i-stockholm-med-kenneth-hermele-svante-weyler/
END:VEVENT
BEGIN:VEVENT
DTSTART;TZID=Europe/Stockholm:20190408T094500
DTEND;TZID=Europe/Stockholm:20190408T120000
DTSTAMP:20260421T212152
CREATED:20190326T085832Z
LAST-MODIFIED:20190326T085832Z
UID:1037-1554716700-1554724800@www.weylerforlag.se
SUMMARY:Anders Sundelin gästar ABF Stockholm
DESCRIPTION:Anders Sundelin som följt Sverker Åströms karriär\, har grävt i arkiv\, intervjuat kolleger och tecknar i boken ett porträtt av honom. \nFöreläsning: ABF-huset – Sandlersalen\, Sveavägen 41 \nAnmälan: eva_sundbeck@hotmail.com \n 
URL:https://www.weylerforlag.se/event/anders-sundelin-gastar-abf-stockholm/
END:VEVENT
BEGIN:VEVENT
DTSTART;TZID=Europe/Stockholm:20190406T123000
DTEND;TZID=Europe/Stockholm:20190406T133000
DTSTAMP:20260421T212152
CREATED:20190218T094451Z
LAST-MODIFIED:20190218T094451Z
UID:1012-1554553800-1554557400@www.weylerforlag.se
SUMMARY:Björn af Kleen gästar Akademibokhandeln city
DESCRIPTION:Författarsamtal med Björn af Kleen i Akademibokhandeln city.
URL:https://www.weylerforlag.se/event/bjorn-af-kleen-gastar-akademibokhandeln-city/
END:VEVENT
BEGIN:VEVENT
DTSTART;TZID=Europe/Stockholm:20190405T180000
DTEND;TZID=Europe/Stockholm:20190405T190000
DTSTAMP:20260421T212152
CREATED:20190326T142224Z
LAST-MODIFIED:20190326T142432Z
UID:1058-1554487200-1554490800@www.weylerforlag.se
SUMMARY:Release för Björn af Kleens Amerikaner
DESCRIPTION:Kom och fira Björn af Kleens nya bok Amerikaner i Gamla stans bokhandel!
URL:https://www.weylerforlag.se/event/release-for-amerikaner/
END:VEVENT
BEGIN:VEVENT
DTSTART;TZID=Europe/Stockholm:20190402T180000
DTEND;TZID=Europe/Stockholm:20190402T200000
DTSTAMP:20260421T212152
CREATED:20190218T094111Z
LAST-MODIFIED:20190218T094111Z
UID:1011-1554228000-1554235200@www.weylerforlag.se
SUMMARY:Björn af Kleen gästar NK bokhandel
DESCRIPTION:Författarsamtal med Björn af Kleen om nya boken Amerikaner\, i NK bokhandel.
URL:https://www.weylerforlag.se/event/bjorn-af-kleen-gastar-nk-bokhandel/
END:VEVENT
BEGIN:VEVENT
DTSTART;TZID=Europe/Stockholm:20190327T190000
DTEND;TZID=Europe/Stockholm:20190327T200000
DTSTAMP:20260421T212152
CREATED:20190226T115817Z
LAST-MODIFIED:20190226T115817Z
UID:1019-1553713200-1553716800@www.weylerforlag.se
SUMMARY:Salomon Schulman gästar Laholm bokhandel
DESCRIPTION:Salomon Schulman gästar Laholm bokhandel.
URL:https://www.weylerforlag.se/event/salomon-schulman-gastar-laholm-bokhandel/
END:VEVENT
BEGIN:VEVENT
DTSTART;TZID=Europe/Stockholm:20190325T190000
DTEND;TZID=Europe/Stockholm:20190325T200000
DTSTAMP:20260421T212152
CREATED:20181129T133341Z
LAST-MODIFIED:20181129T133341Z
UID:943-1553540400-1553544000@www.weylerforlag.se
SUMMARY:Tomas Bannerhed samtalar om Lugnet i Piteå
DESCRIPTION:Tomas Bannerhed samtalar om romanen Lugnet. Allhuset Kaleido i Piteå kl 19.
URL:https://www.weylerforlag.se/event/tomas-bannerhed-samtalar-om-lugnet-i-pitea/
END:VEVENT
BEGIN:VEVENT
DTSTART;TZID=Europe/Stockholm:20190323T110000
DTEND;TZID=Europe/Stockholm:20190323T120000
DTSTAMP:20260421T212152
CREATED:20181219T083612Z
LAST-MODIFIED:20181219T083632Z
UID:962-1553338800-1553342400@www.weylerforlag.se
SUMMARY:Tomas Bannerhed gästar Ale bibliotek
DESCRIPTION:Författarmöte med Tomas Bannerhed på Ale bibliotek i Nödinge kl 11.
URL:https://www.weylerforlag.se/event/tomas-bannerhed-gastar-ale-bibliotek/
END:VEVENT
BEGIN:VEVENT
DTSTART;TZID=Europe/Stockholm:20190321T183000
DTEND;TZID=Europe/Stockholm:20190321T193000
DTSTAMP:20260421T212152
CREATED:20190218T093309Z
LAST-MODIFIED:20190218T093309Z
UID:1010-1553193000-1553196600@www.weylerforlag.se
SUMMARY:Författarbesök Sasha Marianna Salzmann
DESCRIPTION:Sasha Marianna Salzmann pratar om sin nya bok ”Utom sig” med Jenny Aschenbrenner på Goethe-institutet. Obs anmälan krävs\, läs mer under länken.
URL:https://www.weylerforlag.se/event/forfattarbesok-sasha-marianna-salzmann/
END:VEVENT
BEGIN:VEVENT
DTSTART;TZID=Europe/Stockholm:20190321T120000
DTEND;TZID=Europe/Stockholm:20190321T130000
DTSTAMP:20260421T212152
CREATED:20181219T083349Z
LAST-MODIFIED:20190305T080950Z
UID:961-1553169600-1553173200@www.weylerforlag.se
SUMMARY:Tomas Bannerhed gästar Alva Kultur
DESCRIPTION:Tomas Bannerhed berättar om sin senaste roman Lugnet på Alva Kultur i Umeå.
URL:https://www.weylerforlag.se/event/tomas-bannerhed-gastar-alva-kultur/
END:VEVENT
BEGIN:VEVENT
DTSTART;TZID=Europe/Stockholm:20190320T000000
DTEND;TZID=Europe/Stockholm:20190320T000000
DTSTAMP:20260421T212152
CREATED:20181129T133218Z
LAST-MODIFIED:20181129T133218Z
UID:942-1553040000-1553040000@www.weylerforlag.se
SUMMARY:Tomas Bannerhed besöker Bokcafé Pilgatan i Umeå
DESCRIPTION:Bokcafé på Pilgatan i Umeå med Tomas Bannerhed.
URL:https://www.weylerforlag.se/event/tomas-bannerhed-besoker-bokcafe-pilgatan-i-umea/
END:VEVENT
BEGIN:VEVENT
DTSTART;TZID=Europe/Stockholm:20190315T000000
DTEND;TZID=Europe/Stockholm:20190315T000000
DTSTAMP:20260421T212152
CREATED:20181129T132953Z
LAST-MODIFIED:20181129T133055Z
UID:941-1552608000-1552608000@www.weylerforlag.se
SUMMARY:Tomas Bannerhed
DESCRIPTION:ABF Seniorakademin Upplands Väsby får besök av Tomas Bannerhed och Svante Weyler.
URL:https://www.weylerforlag.se/event/tomas-bannerhed/
END:VEVENT
BEGIN:VEVENT
DTSTART;TZID=Europe/Stockholm:20190314T183000
DTEND;TZID=Europe/Stockholm:20190314T200000
DTSTAMP:20260421T212152
CREATED:20190218T131947Z
LAST-MODIFIED:20190218T131947Z
UID:1013-1552588200-1552593600@www.weylerforlag.se
SUMMARY:Salomon Schulman och Mose Apelblat på Bajit i Stockholm
DESCRIPTION:Författarsamtal med Mose Apelblat och Salomon Schulman. Föranmälan krävs! Se mer info under länken.
URL:https://www.weylerforlag.se/event/salomon-schulman-och-mose-apelblat-pa-bajit-i-stockholm/
END:VEVENT
BEGIN:VEVENT
DTSTART;TZID=Europe/Stockholm:20190313T180000
DTEND;TZID=Europe/Stockholm:20190313T200000
DTSTAMP:20260421T212152
CREATED:20190218T132109Z
LAST-MODIFIED:20190218T132109Z
UID:1014-1552500000-1552507200@www.weylerforlag.se
SUMMARY:Salomon Schulman och Mose Apelblat besöker NK bokhandel
DESCRIPTION:Författarsamtal med Mose Apelblat och Salomon Schulman i NK bokhandel.
URL:https://www.weylerforlag.se/event/salomon-schulman-och-mose-apelblat-besoker-nk-bokhandel/
END:VEVENT
BEGIN:VEVENT
DTSTART;TZID=Europe/Stockholm:20190313T180000
DTEND;TZID=Europe/Stockholm:20190313T190000
DTSTAMP:20260421T212152
CREATED:20181129T132812Z
LAST-MODIFIED:20181129T132812Z
UID:940-1552500000-1552503600@www.weylerforlag.se
SUMMARY:Tomas Bannerhed pratar om fåglar\, skådare och litteratur på Stadsbiblioteket i Stockholm
DESCRIPTION:”Skådare – ett släkte för sig?” Ett samtal om fåglar\, skådare och litteratur med bl a Tomas Bannerhed och Jonas Ellerström. Stadsbiblioteket Odenplan kl 18.
URL:https://www.weylerforlag.se/event/tomas-bannerhed-pratar-om-faglar-skadare-och-litteratur-pa-stadsbiblioteket-i-stockholm/
END:VEVENT
BEGIN:VEVENT
DTSTART;TZID=Europe/Stockholm:20190312T180000
DTEND;TZID=Europe/Stockholm:20190312T193000
DTSTAMP:20260421T212152
CREATED:20190204T090754Z
LAST-MODIFIED:20190204T090754Z
UID:996-1552413600-1552419000@www.weylerforlag.se
SUMMARY:Debutantkväll med Camilla Prell-Weichl
DESCRIPTION:Debutantkväll med Pia Mariana Raattamaa Visèn\, Camilla Prell-Weichl och Thomas Eriksson kl 18 i Gamla stans bokhandel.
URL:https://www.weylerforlag.se/event/debutantkvall-med-camilla-prell-weichl/
END:VEVENT
BEGIN:VEVENT
DTSTART;TZID=Europe/Stockholm:20190311T114500
DTEND;TZID=Europe/Stockholm:20190311T124500
DTSTAMP:20260421T212152
CREATED:20181129T132457Z
LAST-MODIFIED:20181129T132457Z
UID:938-1552304700-1552308300@www.weylerforlag.se
SUMMARY:Tomas Bannerhed gästar ABF
DESCRIPTION:Tomas Bannerhed i ett samtal om fåglar och litteratur med förläggare Svante Weyler\, ABF-huset kl 11.45.
URL:https://www.weylerforlag.se/event/tomas-bannerhed-gastar-abf/
END:VEVENT
BEGIN:VEVENT
DTSTART;TZID=Europe/Stockholm:20190306T183000
DTEND;TZID=Europe/Stockholm:20190306T200000
DTSTAMP:20260421T212152
CREATED:20190213T112415Z
LAST-MODIFIED:20190213T112415Z
UID:1008-1551897000-1551902400@www.weylerforlag.se
SUMMARY:Psykologer läser "Lugnet" på ABF
DESCRIPTION:Jonas Mosskin samtalar med Tomas Bannerhed i serien Psykologer läser böcker på ABF-huset i Stockholm. Kom och lyssna och var med och analysera romanen ”Lugnet”.
URL:https://www.weylerforlag.se/event/psykologer-laser-lugnet-pa-abf/
END:VEVENT
BEGIN:VEVENT
DTSTART;TZID=Europe/Stockholm:20190305T183000
DTEND;TZID=Europe/Stockholm:20190305T200000
DTSTAMP:20260421T212152
CREATED:20181129T132205Z
LAST-MODIFIED:20181129T132205Z
UID:937-1551810600-1551816000@www.weylerforlag.se
SUMMARY:Tomas Bannerhed gästar "Livsviktigt" i Linköpings domkyrka
DESCRIPTION:Författaren Tomas Bannerhed gästar samtalsserien ”Livsviktigt” i Linköpings domkyrka\, kl 18.30.
URL:https://www.weylerforlag.se/event/tomas-bannerhed-gastar-livsviktigt-i-linkopings-domkyrka/
END:VEVENT
BEGIN:VEVENT
DTSTART;TZID=Europe/Stockholm:20190305T140000
DTEND;TZID=Europe/Stockholm:20190305T150000
DTSTAMP:20260421T212152
CREATED:20181108T123408Z
LAST-MODIFIED:20181108T124429Z
UID:917-1551794400-1551798000@www.weylerforlag.se
SUMMARY:Lennart Hagerfors gästar Senioruniversitetet\, Hudiksvall
DESCRIPTION:Lennart Hagerfors gästar Senioruniversitetet\, Hudiksvall
URL:https://www.weylerforlag.se/event/lennart-hagerfors-gastar-senioruniversitetet-hudiksvall/
END:VEVENT
BEGIN:VEVENT
DTSTART;TZID=Europe/Stockholm:20190302T114500
DTEND;TZID=Europe/Stockholm:20190302T123000
DTSTAMP:20260421T212152
CREATED:20181219T083251Z
LAST-MODIFIED:20190213T113130Z
UID:960-1551527100-1551529800@www.weylerforlag.se
SUMMARY:Tomas Bannerhed gästar Blekinge bokmässa
DESCRIPTION:Tomas Bannerhed gästar Blekinge bokmässa i Karlshamn.
URL:https://www.weylerforlag.se/event/tomas-bannerhed-gastar-blekinge-bokmassa/
END:VEVENT
BEGIN:VEVENT
DTSTART;TZID=Europe/Stockholm:20190301T190000
DTEND;TZID=Europe/Stockholm:20190301T210000
DTSTAMP:20260421T212152
CREATED:20190226T115333Z
LAST-MODIFIED:20190226T115333Z
UID:1018-1551466800-1551474000@www.weylerforlag.se
SUMMARY:Salomon Schulman i samtal med Rakel Chukri i Anti
DESCRIPTION:Malmö! I Anti kan ni på fredag lyssna på Salomon Schulman i samtal med Rakel Chukri.
URL:https://www.weylerforlag.se/event/salomon-schulman-i-samtal-med-rakel-chukri-i-anti/
END:VEVENT
END:VCALENDAR